BEGIN:VCALENDAR
VERSION:2.0
PRODID:-//Bath Area Family YMCA - ECPv6.15.20//NONSGML v1.0//EN
CALSCALE:GREGORIAN
METHOD:PUBLISH
X-WR-CALNAME:Bath Area Family YMCA
X-ORIGINAL-URL:https://bathymca.org
X-WR-CALDESC:Events for Bath Area Family YMCA
REFRESH-INTERVAL;VALUE=DURATION:PT1H
X-Robots-Tag:noindex
X-PUBLISHED-TTL:PT1H
BEGIN:VTIMEZONE
TZID:America/New_York
BEGIN:DAYLIGHT
TZOFFSETFROM:-0500
TZOFFSETTO:-0400
TZNAME:EDT
DTSTART:20240310T070000
END:DAYLIGHT
BEGIN:STANDARD
TZOFFSETFROM:-0400
TZOFFSETTO:-0500
TZNAME:EST
DTSTART:20241103T060000
END:STANDARD
BEGIN:DAYLIGHT
TZOFFSETFROM:-0500
TZOFFSETTO:-0400
TZNAME:EDT
DTSTART:20250309T070000
END:DAYLIGHT
BEGIN:STANDARD
TZOFFSETFROM:-0400
TZOFFSETTO:-0500
TZNAME:EST
DTSTART:20251102T060000
END:STANDARD
BEGIN:DAYLIGHT
TZOFFSETFROM:-0500
TZOFFSETTO:-0400
TZNAME:EDT
DTSTART:20260308T070000
END:DAYLIGHT
BEGIN:STANDARD
TZOFFSETFROM:-0400
TZOFFSETTO:-0500
TZNAME:EST
DTSTART:20261101T060000
END:STANDARD
END:VTIMEZONE
BEGIN:VEVENT
DTSTART;TZID=America/New_York:20250912T173000
DTEND;TZID=America/New_York:20250912T190000
DTSTAMP:20260420T062708
CREATED:20250801T200103Z
LAST-MODIFIED:20250903T200524Z
UID:18016-1757698200-1757703600@bathymca.org
SUMMARY:Family Fun Friday | Sep 12
DESCRIPTION:Join us for our next Family Fun Friday at the Bath Y. Bring the family and enjoy an evening of free pizza\, bounce houses\, open swim in our pool\, board games in the HUB\, and more! This event is free for YMCA members and their families. \n\n\n\nAs a reminder\, our Family Fun Friday events are not drop-off events—parental/guardian supervision is required. 
URL:https://bathymca.org/event/family-fun-friday-3/
LOCATION:Bath Area Family YMCA\, 303 Centre Street\, Bath\, ME\, 04530\, United States
CATEGORIES:Bath YMCA Events
END:VEVENT
END:VCALENDAR