BEGIN:VCALENDAR
VERSION:2.0
PRODID:-//Bath Area Family YMCA - ECPv6.15.20//NONSGML v1.0//EN
CALSCALE:GREGORIAN
METHOD:PUBLISH
X-ORIGINAL-URL:https://bathymca.org
X-WR-CALDESC:Events for Bath Area Family YMCA
REFRESH-INTERVAL;VALUE=DURATION:PT1H
X-Robots-Tag:noindex
X-PUBLISHED-TTL:PT1H
BEGIN:VTIMEZONE
TZID:America/New_York
BEGIN:DAYLIGHT
TZOFFSETFROM:-0500
TZOFFSETTO:-0400
TZNAME:EDT
DTSTART:20240310T070000
END:DAYLIGHT
BEGIN:STANDARD
TZOFFSETFROM:-0400
TZOFFSETTO:-0500
TZNAME:EST
DTSTART:20241103T060000
END:STANDARD
BEGIN:DAYLIGHT
TZOFFSETFROM:-0500
TZOFFSETTO:-0400
TZNAME:EDT
DTSTART:20250309T070000
END:DAYLIGHT
BEGIN:STANDARD
TZOFFSETFROM:-0400
TZOFFSETTO:-0500
TZNAME:EST
DTSTART:20251102T060000
END:STANDARD
BEGIN:DAYLIGHT
TZOFFSETFROM:-0500
TZOFFSETTO:-0400
TZNAME:EDT
DTSTART:20260308T070000
END:DAYLIGHT
BEGIN:STANDARD
TZOFFSETFROM:-0400
TZOFFSETTO:-0500
TZNAME:EST
DTSTART:20261101T060000
END:STANDARD
END:VTIMEZONE
BEGIN:VEVENT
DTSTART;TZID=America/New_York:20251116T080000
DTEND;TZID=America/New_York:20251116T170000
DTSTAMP:20260420T031302
CREATED:20251111T174124Z
LAST-MODIFIED:20251111T174127Z
UID:18152-1763280000-1763312400@bathymca.org
SUMMARY:Forever Grateful Auction | Nov 6 - 16
DESCRIPTION:We’re thrilled to announce that our 2025 Forever Grateful Online Auction is officially OPEN! \n\n\n\nFrom now through November 16th\, you have the opportunity to bid on an incredible selection of unique items and experiences\, all while supporting the mission-driven programs of the Bath Area Family YMCA. \nLearn more at bathymca.org/auction
URL:https://bathymca.org/event/forever-grateful-auction-nov-6-16/
CATEGORIES:Bath YMCA Events,Landing YMCA events
END:VEVENT
END:VCALENDAR