BEGIN:VCALENDAR
VERSION:2.0
PRODID:-//Bath Area Family YMCA - ECPv6.15.20//NONSGML v1.0//EN
CALSCALE:GREGORIAN
METHOD:PUBLISH
X-WR-CALNAME:Bath Area Family YMCA
X-ORIGINAL-URL:https://bathymca.org
X-WR-CALDESC:Events for Bath Area Family YMCA
REFRESH-INTERVAL;VALUE=DURATION:PT1H
X-Robots-Tag:noindex
X-PUBLISHED-TTL:PT1H
BEGIN:VTIMEZONE
TZID:America/New_York
BEGIN:DAYLIGHT
TZOFFSETFROM:-0500
TZOFFSETTO:-0400
TZNAME:EDT
DTSTART:20240310T070000
END:DAYLIGHT
BEGIN:STANDARD
TZOFFSETFROM:-0400
TZOFFSETTO:-0500
TZNAME:EST
DTSTART:20241103T060000
END:STANDARD
BEGIN:DAYLIGHT
TZOFFSETFROM:-0500
TZOFFSETTO:-0400
TZNAME:EDT
DTSTART:20250309T070000
END:DAYLIGHT
BEGIN:STANDARD
TZOFFSETFROM:-0400
TZOFFSETTO:-0500
TZNAME:EST
DTSTART:20251102T060000
END:STANDARD
BEGIN:DAYLIGHT
TZOFFSETFROM:-0500
TZOFFSETTO:-0400
TZNAME:EDT
DTSTART:20260308T070000
END:DAYLIGHT
BEGIN:STANDARD
TZOFFSETFROM:-0400
TZOFFSETTO:-0500
TZNAME:EST
DTSTART:20261101T060000
END:STANDARD
END:VTIMEZONE
BEGIN:VEVENT
DTSTART;TZID=America/New_York:20251128T173000
DTEND;TZID=America/New_York:20251128T203000
DTSTAMP:20260420T030942
CREATED:20251122T174558Z
LAST-MODIFIED:20251125T193049Z
UID:18156-1764351000-1764361800@bathymca.org
SUMMARY:Kids Night Out | Nov 28
DESCRIPTION:During Kids Night Out\, children in grades K-5 can get dropped off at the Y for an evening full of fun – giving parents a much-needed night off! Our Kids Night Out events usually feature pizza\, crafts\, and lots of fun and games! \n\n\n\nFriday\, November 28 – Neon Party at the Landing Y \nGet ready to glow and go! Join us for a bright and exciting Kids Night Out: Neon Edition at the Y! Kids will enjoy a night filled with games\, crafts\, music\, and glowing fun\, while parents enjoy a little post-Thanksgiving time off or get a chance to sneak in some black Friday shopping. REGISTER TODAY
URL:https://bathymca.org/event/kids-night-out-nov-28/
LOCATION:Landing YMCA\, 24 Venture Avenue\, Brunswick\, ME\, 04011\, United States
CATEGORIES:Landing YMCA events
END:VEVENT
END:VCALENDAR