BEGIN:VCALENDAR
VERSION:2.0
PRODID:-//Bath Area Family YMCA - ECPv6.15.20//NONSGML v1.0//EN
CALSCALE:GREGORIAN
METHOD:PUBLISH
X-WR-CALNAME:Bath Area Family YMCA
X-ORIGINAL-URL:https://bathymca.org
X-WR-CALDESC:Events for Bath Area Family YMCA
REFRESH-INTERVAL;VALUE=DURATION:PT1H
X-Robots-Tag:noindex
X-PUBLISHED-TTL:PT1H
BEGIN:VTIMEZONE
TZID:America/New_York
BEGIN:DAYLIGHT
TZOFFSETFROM:-0500
TZOFFSETTO:-0400
TZNAME:EDT
DTSTART:20250309T070000
END:DAYLIGHT
BEGIN:STANDARD
TZOFFSETFROM:-0400
TZOFFSETTO:-0500
TZNAME:EST
DTSTART:20251102T060000
END:STANDARD
BEGIN:DAYLIGHT
TZOFFSETFROM:-0500
TZOFFSETTO:-0400
TZNAME:EDT
DTSTART:20260308T070000
END:DAYLIGHT
BEGIN:STANDARD
TZOFFSETFROM:-0400
TZOFFSETTO:-0500
TZNAME:EST
DTSTART:20261101T060000
END:STANDARD
BEGIN:DAYLIGHT
TZOFFSETFROM:-0500
TZOFFSETTO:-0400
TZNAME:EDT
DTSTART:20270314T070000
END:DAYLIGHT
BEGIN:STANDARD
TZOFFSETFROM:-0400
TZOFFSETTO:-0500
TZNAME:EST
DTSTART:20271107T060000
END:STANDARD
END:VTIMEZONE
BEGIN:VEVENT
DTSTART;TZID=America/New_York:20260117T100000
DTEND;TZID=America/New_York:20260117T120000
DTSTAMP:20260419T234644
CREATED:20251231T154427Z
LAST-MODIFIED:20260112T151203Z
UID:18281-1768644000-1768651200@bathymca.org
SUMMARY:Landing 10th Anniversary Celebration | Jan 17
DESCRIPTION:Join us to celebrate 10 years in the Brunswick community! \n\n\n\nYou’re invited to celebrate our 10th anniversary with a fun winter carnival. Join us for bounce houses\, winter games\, fun crafts\, cupcakes\, and more. This event is free and open to everyone! \n 
URL:https://bathymca.org/event/landing10th-anniversary-celebration-jan-17/
LOCATION:Landing YMCA\, 24 Venture Avenue\, Brunswick\, ME\, 04011\, United States
CATEGORIES:Landing YMCA events
ATTACH;FMTTYPE=image/png:https://bathymca.org/wordpress/wp-content/uploads/2025/12/Landing-10th-anniversary-event.png
END:VEVENT
END:VCALENDAR