BEGIN:VCALENDAR
VERSION:2.0
PRODID:-//Bath Area Family YMCA - ECPv6.15.20//NONSGML v1.0//EN
CALSCALE:GREGORIAN
METHOD:PUBLISH
X-WR-CALNAME:Bath Area Family YMCA
X-ORIGINAL-URL:https://bathymca.org
X-WR-CALDESC:Events for Bath Area Family YMCA
REFRESH-INTERVAL;VALUE=DURATION:PT1H
X-Robots-Tag:noindex
X-PUBLISHED-TTL:PT1H
BEGIN:VTIMEZONE
TZID:America/New_York
BEGIN:DAYLIGHT
TZOFFSETFROM:-0500
TZOFFSETTO:-0400
TZNAME:EDT
DTSTART:20230312T070000
END:DAYLIGHT
BEGIN:STANDARD
TZOFFSETFROM:-0400
TZOFFSETTO:-0500
TZNAME:EST
DTSTART:20231105T060000
END:STANDARD
BEGIN:DAYLIGHT
TZOFFSETFROM:-0500
TZOFFSETTO:-0400
TZNAME:EDT
DTSTART:20240310T070000
END:DAYLIGHT
BEGIN:STANDARD
TZOFFSETFROM:-0400
TZOFFSETTO:-0500
TZNAME:EST
DTSTART:20241103T060000
END:STANDARD
BEGIN:DAYLIGHT
TZOFFSETFROM:-0500
TZOFFSETTO:-0400
TZNAME:EDT
DTSTART:20250309T070000
END:DAYLIGHT
BEGIN:STANDARD
TZOFFSETFROM:-0400
TZOFFSETTO:-0500
TZNAME:EST
DTSTART:20251102T060000
END:STANDARD
BEGIN:DAYLIGHT
TZOFFSETFROM:-0500
TZOFFSETTO:-0400
TZNAME:EDT
DTSTART:20260308T070000
END:DAYLIGHT
BEGIN:STANDARD
TZOFFSETFROM:-0400
TZOFFSETTO:-0500
TZNAME:EST
DTSTART:20261101T060000
END:STANDARD
END:VTIMEZONE
BEGIN:VEVENT
DTSTART;TZID=America/New_York:20250601T083000
DTEND;TZID=America/New_York:20250601T120000
DTSTAMP:20260420T161328
CREATED:20250601T150216Z
LAST-MODIFIED:20250627T150340Z
UID:17825-1748766600-1748779200@bathymca.org
SUMMARY:Pickleball Scramble | June 1
DESCRIPTION:
URL:https://bathymca.org/event/pickleball-scramble-june-1/
LOCATION:Landing YMCA\, 24 Venture Avenue\, Brunswick\, ME\, 04011\, United States
CATEGORIES:Landing YMCA events
ATTACH;FMTTYPE=image/png:https://bathymca.org/wordpress/wp-content/uploads/2025/05/Pickleball-Scramble-flyer-Instagram-Post.png
END:VEVENT
BEGIN:VEVENT
DTSTART;TZID=America/New_York:20240210T160000
DTEND;TZID=America/New_York:20240210T200000
DTSTAMP:20260420T161328
CREATED:20240115T210211Z
LAST-MODIFIED:20240115T210342Z
UID:16479-1707580800-1707595200@bathymca.org
SUMMARY:Kids Night Out
DESCRIPTION:
URL:https://bathymca.org/event/kids-night-out/
LOCATION:Landing YMCA\, 24 Venture Avenue\, Brunswick\, ME\, 04011\, United States
CATEGORIES:Member events
END:VEVENT
BEGIN:VEVENT
DTSTART;TZID=America/New_York:20240127T120000
DTEND;TZID=America/New_York:20240127T140000
DTSTAMP:20260420T161328
CREATED:20240115T204624Z
LAST-MODIFIED:20240115T205057Z
UID:16473-1706356800-1706364000@bathymca.org
SUMMARY:8th Birthday Bash at the Landing YMCA
DESCRIPTION:
URL:https://bathymca.org/event/8th-birthday-bash-at-the-landing-ymca/
LOCATION:Landing YMCA\, 24 Venture Avenue\, Brunswick\, ME\, 04011\, United States
CATEGORIES:Community Events
END:VEVENT
BEGIN:VEVENT
DTSTART;TZID=America/New_York:20240119T190000
DTEND;TZID=America/New_York:20240119T210000
DTSTAMP:20260420T161328
CREATED:20240115T204256Z
LAST-MODIFIED:20240115T205529Z
UID:16470-1705690800-1705698000@bathymca.org
SUMMARY:Morse High School Swim Meet (Pool closed at 6pm)
DESCRIPTION:
URL:https://bathymca.org/event/morse-high-school-swim-meet-pool-closes-are-6pm/
LOCATION:Bath Area Family YMCA\, 303 Centre Street\, Bath\, ME\, 04530\, United States
CATEGORIES:Swim Meet
END:VEVENT
BEGIN:VEVENT
DTSTART;TZID=America/New_York:20240115T120000
DTEND;TZID=America/New_York:20240115T120000
DTSTAMP:20260420T161328
CREATED:20240115T203822Z
LAST-MODIFIED:20240115T204419Z
UID:16467-1705320000-1705320000@bathymca.org
SUMMARY:Gymnastics Meet (Gym closed at 11:30am)
DESCRIPTION:
URL:https://bathymca.org/event/gymnastics-meet-gym-closed-at-1130am/
LOCATION:Bath Area Family YMCA\, 303 Centre Street\, Bath\, ME\, 04530\, United States
CATEGORIES:Gymnastics
END:VEVENT
END:VCALENDAR