BEGIN:VCALENDAR
VERSION:2.0
PRODID:-//Bath Area Family YMCA - ECPv6.15.20//NONSGML v1.0//EN
CALSCALE:GREGORIAN
METHOD:PUBLISH
X-WR-CALNAME:Bath Area Family YMCA
X-ORIGINAL-URL:https://bathymca.org
X-WR-CALDESC:Events for Bath Area Family YMCA
REFRESH-INTERVAL;VALUE=DURATION:PT1H
X-Robots-Tag:noindex
X-PUBLISHED-TTL:PT1H
BEGIN:VTIMEZONE
TZID:America/New_York
BEGIN:DAYLIGHT
TZOFFSETFROM:-0500
TZOFFSETTO:-0400
TZNAME:EDT
DTSTART:20240310T070000
END:DAYLIGHT
BEGIN:STANDARD
TZOFFSETFROM:-0400
TZOFFSETTO:-0500
TZNAME:EST
DTSTART:20241103T060000
END:STANDARD
BEGIN:DAYLIGHT
TZOFFSETFROM:-0500
TZOFFSETTO:-0400
TZNAME:EDT
DTSTART:20250309T070000
END:DAYLIGHT
BEGIN:STANDARD
TZOFFSETFROM:-0400
TZOFFSETTO:-0500
TZNAME:EST
DTSTART:20251102T060000
END:STANDARD
BEGIN:DAYLIGHT
TZOFFSETFROM:-0500
TZOFFSETTO:-0400
TZNAME:EDT
DTSTART:20260308T070000
END:DAYLIGHT
BEGIN:STANDARD
TZOFFSETFROM:-0400
TZOFFSETTO:-0500
TZNAME:EST
DTSTART:20261101T060000
END:STANDARD
END:VTIMEZONE
BEGIN:VEVENT
DTSTART;TZID=America/New_York:20250704T050000
DTEND;TZID=America/New_York:20250704T210000
DTSTAMP:20260420T075553
CREATED:20250624T175303Z
LAST-MODIFIED:20250627T145744Z
UID:17797-1751605200-1751662800@bathymca.org
SUMMARY:All Branches Closed | July 4
DESCRIPTION:All branches will be closed on July 4 for Independence Day.
URL:https://bathymca.org/event/all-branches-closed-for-independence-day/
CATEGORIES:Bath YMCA Events,Landing YMCA events
ATTACH;FMTTYPE=image/png:https://bathymca.org/wordpress/wp-content/uploads/2025/06/July-4th-closed-1920-x-1080-px.png
END:VEVENT
BEGIN:VEVENT
DTSTART;TZID=America/New_York:20250711T173000
DTEND;TZID=America/New_York:20250711T190000
DTSTAMP:20260420T075553
CREATED:20250624T180052Z
LAST-MODIFIED:20250625T162151Z
UID:17801-1752255000-1752260400@bathymca.org
SUMMARY:Family Fun Friday | July 11
DESCRIPTION:
URL:https://bathymca.org/event/family-fun-friday-2/
LOCATION:Landing YMCA\, 24 Venture Avenue\, Brunswick\, ME\, 04011\, United States
CATEGORIES:Landing YMCA events
END:VEVENT
BEGIN:VEVENT
DTSTART;TZID=America/New_York:20250725T173000
DTEND;TZID=America/New_York:20250725T190000
DTSTAMP:20260420T075553
CREATED:20250626T181637Z
LAST-MODIFIED:20250708T182721Z
UID:17859-1753464600-1753470000@bathymca.org
SUMMARY:Family Fun Friday | July 25
DESCRIPTION:Join us for our next Family Fun Friday at the Bath Y next Friday\, July 25 from 5:30-7pm. Bring the family and enjoy an evening of free pizza\, bounce houses\, open swim in our pool\, board games in the HUB\, and more! This event is free for YMCA members and their families.As a reminder\, our Family Fun Friday events are not drop-off events—parental/guardian supervision is required. 
URL:https://bathymca.org/event/family-fun-friday-july-25/
LOCATION:Bath Area Family YMCA\, 303 Centre Street\, Bath\, ME\, 04530\, United States
CATEGORIES:Bath YMCA Events
END:VEVENT
END:VCALENDAR