BEGIN:VCALENDAR
VERSION:2.0
PRODID:-//Bath Area Family YMCA - ECPv6.15.20//NONSGML v1.0//EN
CALSCALE:GREGORIAN
METHOD:PUBLISH
X-ORIGINAL-URL:https://bathymca.org
X-WR-CALDESC:Events for Bath Area Family YMCA
REFRESH-INTERVAL;VALUE=DURATION:PT1H
X-Robots-Tag:noindex
X-PUBLISHED-TTL:PT1H
BEGIN:VTIMEZONE
TZID:America/New_York
BEGIN:DAYLIGHT
TZOFFSETFROM:-0500
TZOFFSETTO:-0400
TZNAME:EDT
DTSTART:20240310T070000
END:DAYLIGHT
BEGIN:STANDARD
TZOFFSETFROM:-0400
TZOFFSETTO:-0500
TZNAME:EST
DTSTART:20241103T060000
END:STANDARD
BEGIN:DAYLIGHT
TZOFFSETFROM:-0500
TZOFFSETTO:-0400
TZNAME:EDT
DTSTART:20250309T070000
END:DAYLIGHT
BEGIN:STANDARD
TZOFFSETFROM:-0400
TZOFFSETTO:-0500
TZNAME:EST
DTSTART:20251102T060000
END:STANDARD
BEGIN:DAYLIGHT
TZOFFSETFROM:-0500
TZOFFSETTO:-0400
TZNAME:EDT
DTSTART:20260308T070000
END:DAYLIGHT
BEGIN:STANDARD
TZOFFSETFROM:-0400
TZOFFSETTO:-0500
TZNAME:EST
DTSTART:20261101T060000
END:STANDARD
END:VTIMEZONE
BEGIN:VEVENT
DTSTART;TZID=America/New_York:20250808T173000
DTEND;TZID=America/New_York:20250808T190000
DTSTAMP:20260420T062733
CREATED:20250804T173859Z
LAST-MODIFIED:20250806T174031Z
UID:17948-1754674200-1754679600@bathymca.org
SUMMARY:Family Fun Friday | Aug 8
DESCRIPTION:Join us this Friday at the Landing YMCA in Brunswick for our next Family Fun Friday. We’ll have free food\, bounces houses\, gym games\, and open climbing on our brand new bouldering wall.  \n\n\n\nThis event is free and open to the community so bring your friends and family! \n\n\n\nWhat: Family Fun Friday at the Landing Y \n\n\n\nWhen: Friday\, August 8 from 5:30 – 7pm \n\n\n\nWhere: Landing YMCA\, 24 Venture Ave\, Brunswick \n\n\n\nClick to see this event on Facebook. \n\n\n\nAs a reminder\, our Family Fun Friday events are not drop-off events—parental/guardian supervision is required.
URL:https://bathymca.org/event/family-fun-friday-aug-8/
LOCATION:Landing YMCA\, 24 Venture Avenue\, Brunswick\, ME\, 04011\, United States
CATEGORIES:Landing YMCA events
END:VEVENT
BEGIN:VEVENT
DTSTART;TZID=America/New_York:20250810T150000
DTEND;TZID=America/New_York:20250810T190000
DTSTAMP:20260420T062733
CREATED:20250701T173014Z
LAST-MODIFIED:20250806T173618Z
UID:17944-1754838000-1754852400@bathymca.org
SUMMARY:Coach Jay's Retirement Celebration | Aug 10
DESCRIPTION:After 40 years of dedication\, leadership\, and countless victories\, Jay Morissette is retiring as head coach of Long Reach Swim Club. We’re sad to see Jay go\, but we’re not going to let him leave without having a party! \n\n\n\nPlease join us on Sunday\, August 10 from 3 – 7pm at the Bath YMCA to celebrate coach Jay’s retirement. There will be food\, live music\, and dancing! Donations will be accepted at the door to a new aquatics fund in Jay’s name. \n\n\n\nWhat: Coach Jay’s Retirement Celebration \n\n\n\nWhen: Sunday\, August 10\, 3 – 7pm \n\n\n\nWhere: Bath YMCA\, 303 Centre St\, Bath
URL:https://bathymca.org/event/coach-jays-retirement-celebration-aug-10/
LOCATION:Bath Area Family YMCA\, 303 Centre Street\, Bath\, ME\, 04530\, United States
CATEGORIES:Bath YMCA Events
END:VEVENT
BEGIN:VEVENT
DTSTART;TZID=America/New_York:20250823T080000
DTEND;TZID=America/New_York:20250827T170000
DTSTAMP:20260420T062733
CREATED:20250702T151231Z
LAST-MODIFIED:20250806T173748Z
UID:17827-1755936000-1756314000@bathymca.org
SUMMARY:Bath YMCA Closed | Aug 23 - 27
DESCRIPTION:The Bath YMCA will be closed for deep cleaning and annual building maintenance.
URL:https://bathymca.org/event/bath-ymca-closed-aug-23-26/
LOCATION:Bath Area Family YMCA\, 303 Centre Street\, Bath\, ME\, 04530\, United States
CATEGORIES:Bath YMCA Events
END:VEVENT
END:VCALENDAR