BEGIN:VCALENDAR
VERSION:2.0
PRODID:-//Bath Area Family YMCA - ECPv6.15.20//NONSGML v1.0//EN
CALSCALE:GREGORIAN
METHOD:PUBLISH
X-WR-CALNAME:Bath Area Family YMCA
X-ORIGINAL-URL:https://bathymca.org
X-WR-CALDESC:Events for Bath Area Family YMCA
REFRESH-INTERVAL;VALUE=DURATION:PT1H
X-Robots-Tag:noindex
X-PUBLISHED-TTL:PT1H
BEGIN:VTIMEZONE
TZID:America/New_York
BEGIN:DAYLIGHT
TZOFFSETFROM:-0500
TZOFFSETTO:-0400
TZNAME:EDT
DTSTART:20240310T070000
END:DAYLIGHT
BEGIN:STANDARD
TZOFFSETFROM:-0400
TZOFFSETTO:-0500
TZNAME:EST
DTSTART:20241103T060000
END:STANDARD
BEGIN:DAYLIGHT
TZOFFSETFROM:-0500
TZOFFSETTO:-0400
TZNAME:EDT
DTSTART:20250309T070000
END:DAYLIGHT
BEGIN:STANDARD
TZOFFSETFROM:-0400
TZOFFSETTO:-0500
TZNAME:EST
DTSTART:20251102T060000
END:STANDARD
BEGIN:DAYLIGHT
TZOFFSETFROM:-0500
TZOFFSETTO:-0400
TZNAME:EDT
DTSTART:20260308T070000
END:DAYLIGHT
BEGIN:STANDARD
TZOFFSETFROM:-0400
TZOFFSETTO:-0500
TZNAME:EST
DTSTART:20261101T060000
END:STANDARD
END:VTIMEZONE
BEGIN:VEVENT
DTSTART;TZID=America/New_York:20251003T173000
DTEND;TZID=America/New_York:20251003T190000
DTSTAMP:20260420T030955
CREATED:20250903T200745Z
LAST-MODIFIED:20250903T200747Z
UID:18020-1759512600-1759518000@bathymca.org
SUMMARY:Family Fun Friday | Oct 3
DESCRIPTION:Join us for our next Family Fun Friday at the Landing Y. Bring the family and enjoy an evening of free pizza\, bounce houses\, climbing on our new bouldering wall\, and more! This event is free for the community. \n\n\n\nAs a reminder\, our Family Fun Friday events are not drop-off events—parental/guardian supervision is required.
URL:https://bathymca.org/event/family-fun-friday-oct-3/
LOCATION:Landing YMCA\, 24 Venture Avenue\, Brunswick\, ME\, 04011\, United States
CATEGORIES:Landing YMCA events
END:VEVENT
BEGIN:VEVENT
DTSTART;TZID=America/New_York:20251025T080000
DTEND;TZID=America/New_York:20251025T130000
DTSTAMP:20260420T030955
CREATED:20250812T151557Z
LAST-MODIFIED:20251006T165917Z
UID:17969-1761379200-1761397200@bathymca.org
SUMMARY:Haunted Hustle 5k & Harvest Fest | Oct 25
DESCRIPTION:Get ready for a ghoulishly good time at the Haunted Hustle 5K Walk/Run and Kids Fun Run at the Bath YMCA! Whether you’re chasing a new personal record or just out for some spooky fun\, this community favorite is perfect for all ages and fitness levels. Costumes are encouraged! \n\n\n\nAfter the race\, join us for our annual Family Harvest Festival from 10am -12pm at the Bath YMCA. We’ve lined up a bunch of fun activities for the day including balloon animals\, baked goods\, bounces houses\, games\, crafts\, and more! \nThis event is free and open to everyone in the community\, so bring your friends and family.
URL:https://bathymca.org/event/haunted-hustle-5k-harvest-fest-oct-25/
LOCATION:Bath Area Family YMCA\, 303 Centre Street\, Bath\, ME\, 04530\, United States
CATEGORIES:Bath YMCA Events
ATTACH;FMTTYPE=image/png:https://bathymca.org/wordpress/wp-content/uploads/2025/08/Harvest-Fest-web-banner.png
END:VEVENT
END:VCALENDAR