BEGIN:VCALENDAR
VERSION:2.0
PRODID:-//Bath Area Family YMCA - ECPv6.15.20//NONSGML v1.0//EN
CALSCALE:GREGORIAN
METHOD:PUBLISH
X-WR-CALNAME:Bath Area Family YMCA
X-ORIGINAL-URL:https://bathymca.org
X-WR-CALDESC:Events for Bath Area Family YMCA
REFRESH-INTERVAL;VALUE=DURATION:PT1H
X-Robots-Tag:noindex
X-PUBLISHED-TTL:PT1H
BEGIN:VTIMEZONE
TZID:America/New_York
BEGIN:DAYLIGHT
TZOFFSETFROM:-0500
TZOFFSETTO:-0400
TZNAME:EDT
DTSTART:20240310T070000
END:DAYLIGHT
BEGIN:STANDARD
TZOFFSETFROM:-0400
TZOFFSETTO:-0500
TZNAME:EST
DTSTART:20241103T060000
END:STANDARD
BEGIN:DAYLIGHT
TZOFFSETFROM:-0500
TZOFFSETTO:-0400
TZNAME:EDT
DTSTART:20250309T070000
END:DAYLIGHT
BEGIN:STANDARD
TZOFFSETFROM:-0400
TZOFFSETTO:-0500
TZNAME:EST
DTSTART:20251102T060000
END:STANDARD
BEGIN:DAYLIGHT
TZOFFSETFROM:-0500
TZOFFSETTO:-0400
TZNAME:EDT
DTSTART:20260308T070000
END:DAYLIGHT
BEGIN:STANDARD
TZOFFSETFROM:-0400
TZOFFSETTO:-0500
TZNAME:EST
DTSTART:20261101T060000
END:STANDARD
BEGIN:DAYLIGHT
TZOFFSETFROM:-0500
TZOFFSETTO:-0400
TZNAME:EDT
DTSTART:20270314T070000
END:DAYLIGHT
BEGIN:STANDARD
TZOFFSETFROM:-0400
TZOFFSETTO:-0500
TZNAME:EST
DTSTART:20271107T060000
END:STANDARD
END:VTIMEZONE
BEGIN:VEVENT
DTSTART;TZID=America/New_York:20251205T170000
DTEND;TZID=America/New_York:20251205T190000
DTSTAMP:20260419T235930
CREATED:20251120T193206Z
LAST-MODIFIED:20251125T193819Z
UID:18173-1764954000-1764961200@bathymca.org
SUMMARY:Family Fun Friday + Holiday Concert | Dec 5
DESCRIPTION:Join us for our next Family Fun Friday at the Bath YMCA on Friday\, December 5th for a cozy evening of free pizza\, games\, and a concert by the Bath Municipal Swing Band!
URL:https://bathymca.org/event/family-fun-friday-holiday-concert-dec-5/
LOCATION:Bath Area Family YMCA\, 303 Centre Street\, Bath\, ME\, 04530\, United States
CATEGORIES:Bath YMCA Events
ATTACH;FMTTYPE=image/png:https://bathymca.org/wordpress/wp-content/uploads/2025/11/Family-Fun-Friday-12.5.png
END:VEVENT
BEGIN:VEVENT
DTSTART;TZID=America/New_York:20251211T120000
DTEND;TZID=America/New_York:20251211T130000
DTSTAMP:20260419T235930
CREATED:20251118T192841Z
LAST-MODIFIED:20251201T190436Z
UID:18170-1765454400-1765458000@bathymca.org
SUMMARY:Silver Holiday Luncheon | Dec 11
DESCRIPTION:Join us for the 2025 YMCA Silver Holiday Luncheon on Thursday\, December 11\, from 12–1 PM at The Bath YMCA Gymnasium. This community potluck event (formerly the Senior Holiday Tea) celebrates our Active Older Adult members\, and the values that make our Y special: community\, inclusion\, and caring. \n\n\n\nPlease RSVP by clicking here. \n\n\n\nFood contributions may be homemade or store-bought and are not required to attend. If you choose\, you may also bring along a non-perishable donation to support the Bath YMCA Food Pantry. \n\n\n\nQuestions? Contact Staci Beal at staci@bathymca.org. \n\n\n\nWe hope to see you there! \n 
URL:https://bathymca.org/event/silver-holiday-luncheon-dec-2/
LOCATION:Bath Area Family YMCA\, 303 Centre Street\, Bath\, ME\, 04530\, United States
CATEGORIES:Bath YMCA Events
ATTACH;FMTTYPE=image/png:https://bathymca.org/wordpress/wp-content/uploads/2025/11/2025-Silver-Holiday-Luncheon-Presentation.png
END:VEVENT
BEGIN:VEVENT
DTSTART;TZID=America/New_York:20251212T170000
DTEND;TZID=America/New_York:20251212T200000
DTSTAMP:20260419T235930
CREATED:20251202T141211Z
LAST-MODIFIED:20251202T141214Z
UID:18194-1765558800-1765569600@bathymca.org
SUMMARY:Kids Night Out | Dec 12
DESCRIPTION:Take the night off (or get in your last-minute holiday shopping) while your kids have an evening of fun at the YMCA!   \n\n\n\nDive into a cool night of fun at the YMCA! Kids will embark on an Arctic Ocean Adventure filled with games\, crafts\, and plenty of frosty fun. From penguin games to icy art projects\, it’s a night your little explorers won’t forget. \n\n\n\nREGISTER TODAY
URL:https://bathymca.org/event/kids-night-out-dec-12/
LOCATION:Landing YMCA\, 24 Venture Avenue\, Brunswick\, ME\, 04011\, United States
CATEGORIES:Landing YMCA events
END:VEVENT
BEGIN:VEVENT
DTSTART;TZID=America/New_York:20251219T173000
DTEND;TZID=America/New_York:20251219T190000
DTSTAMP:20260419T235930
CREATED:20251202T121400Z
LAST-MODIFIED:20251202T141537Z
UID:18196-1766165400-1766170800@bathymca.org
SUMMARY:Family Fun Friday | Dec 19
DESCRIPTION:Celebrate the holidays at our next Family Fun Friday at the Landing Y. Join us for an evening of bounce houses\, open climbing on our bouldering wall\, free pizza\, and more! \n\n\n\nThis event is free and open to the community so bring your friends and family.  \n 
URL:https://bathymca.org/event/family-fun-friday-dec-19/
LOCATION:Landing YMCA\, 24 Venture Avenue\, Brunswick\, ME\, 04011\, United States
CATEGORIES:Landing YMCA events
END:VEVENT
BEGIN:VEVENT
DTSTART;TZID=America/New_York:20251223T080000
DTEND;TZID=America/New_York:20260101T170000
DTSTAMP:20260419T235930
CREATED:20251223T152226Z
LAST-MODIFIED:20251223T152233Z
UID:18270-1766476800-1767286800@bathymca.org
SUMMARY:All branches closed for New Years | Jan 1
DESCRIPTION:
URL:https://bathymca.org/event/all-branches-closed-for-new-years-jan-1/
CATEGORIES:Bath YMCA Events,Landing YMCA events
END:VEVENT
BEGIN:VEVENT
DTSTART;TZID=America/New_York:20251225T050000
DTEND;TZID=America/New_York:20251225T210000
DTSTAMP:20260419T235930
CREATED:20250901T131752Z
LAST-MODIFIED:20251202T141828Z
UID:18198-1766638800-1766696400@bathymca.org
SUMMARY:All branches closed for Christmas | Dec 25
DESCRIPTION:Have a happy and safe holidays!
URL:https://bathymca.org/event/all-branches-closed-for-christmas-dec-25/
CATEGORIES:Bath YMCA Events,Landing YMCA events
END:VEVENT
END:VCALENDAR